BEGIN:VCALENDAR
VERSION:2.0
PRODID:-// - ECPv6.15.20//NONSGML v1.0//EN
CALSCALE:GREGORIAN
METHOD:PUBLISH
X-ORIGINAL-URL:https://tuhandicap.com
X-WR-CALDESC:Eventos para 
REFRESH-INTERVAL;VALUE=DURATION:PT1H
X-Robots-Tag:noindex
X-PUBLISHED-TTL:PT1H
BEGIN:VTIMEZONE
TZID:Europe/Madrid
BEGIN:DAYLIGHT
TZOFFSETFROM:+0100
TZOFFSETTO:+0200
TZNAME:CEST
DTSTART:20180325T010000
END:DAYLIGHT
BEGIN:STANDARD
TZOFFSETFROM:+0200
TZOFFSETTO:+0100
TZNAME:CET
DTSTART:20181028T010000
END:STANDARD
BEGIN:DAYLIGHT
TZOFFSETFROM:+0100
TZOFFSETTO:+0200
TZNAME:CEST
DTSTART:20190331T010000
END:DAYLIGHT
BEGIN:STANDARD
TZOFFSETFROM:+0200
TZOFFSETTO:+0100
TZNAME:CET
DTSTART:20191027T010000
END:STANDARD
BEGIN:DAYLIGHT
TZOFFSETFROM:+0100
TZOFFSETTO:+0200
TZNAME:CEST
DTSTART:20200329T010000
END:DAYLIGHT
BEGIN:STANDARD
TZOFFSETFROM:+0200
TZOFFSETTO:+0100
TZNAME:CET
DTSTART:20201025T010000
END:STANDARD
END:VTIMEZONE
BEGIN:VEVENT
DTSTART;VALUE=DATE:20190504
DTEND;VALUE=DATE:20190506
DTSTAMP:20260424T214755
CREATED:20190127T090307Z
LAST-MODIFIED:20200104T223535Z
UID:35226-1556928000-1557100799@tuhandicap.com
SUMMARY:Circuito Escuela Diego Torné 2019
DESCRIPTION:5ª Prueba Puntuable
URL:https://tuhandicap.com/event/circuito-escuela-diego-torne-2019-5/
LOCATION:La Serena Golf\, Av. Príncipe Felipe\, 30\, 30710 Los Alcázares\, Murcia
CATEGORIES:Circuito Escuela Diego Torné
ATTACH;FMTTYPE=image/jpeg:https://tuhandicap.com/wp-content/uploads/2020/01/58378608_2221451841274364_2016772631948165120_n.jpg
END:VEVENT
BEGIN:VEVENT
DTSTART;VALUE=DATE:20190504
DTEND;VALUE=DATE:20190505
DTSTAMP:20260424T214755
CREATED:20190127T112228Z
LAST-MODIFIED:20190509T222756Z
UID:35282-1556928000-1557014399@tuhandicap.com
SUMMARY:XXI Circuito de Golf Grupo Soledad
DESCRIPTION:5ª Prueba puntuable
URL:https://tuhandicap.com/event/xxi-circuito-de-golf-grupo-soledad-3/
LOCATION:Villamartín\, Campo de Golf Villamartín\, 03189 Villamartín\, Alicante
CATEGORIES:Circuito de Golf Grupo Soledad
END:VEVENT
BEGIN:VEVENT
DTSTART;VALUE=DATE:20190504
DTEND;VALUE=DATE:20190505
DTSTAMP:20260424T214755
CREATED:20190428T061959Z
LAST-MODIFIED:20190511T182402Z
UID:36706-1556928000-1557014399@tuhandicap.com
SUMMARY:Circuito Match Quality Golf
DESCRIPTION:
URL:https://tuhandicap.com/event/circuito-match-quality-golf-4/
LOCATION:Font del Llop\, Ctra. Alicante-Aspe CV.847 - km 3.5\, 03679 Monforte del Cid
CATEGORIES:Circuito Match Quality Golf
ATTACH;FMTTYPE=image/jpeg:https://tuhandicap.com/wp-content/uploads/2019/04/unnamed-3.jpg
END:VEVENT
BEGIN:VEVENT
DTSTART;VALUE=DATE:20190509
DTEND;VALUE=DATE:20190511
DTSTAMP:20260424T214755
CREATED:20190126T183431Z
LAST-MODIFIED:20190513T182209Z
UID:35152-1557360000-1557532799@tuhandicap.com
SUMMARY:Torneo Mercedes Dimovil
DESCRIPTION:
URL:https://tuhandicap.com/event/torneo-mercedes-dimovil/
LOCATION:Golf Altorreal\, Av. del Golf\, 3\, 30506 Molina de Segura\, Murcia
ATTACH;FMTTYPE=image/jpeg:https://tuhandicap.com/wp-content/uploads/2019/05/MERCEDES-TROPHY.jpg
END:VEVENT
BEGIN:VEVENT
DTSTART;VALUE=DATE:20190511
DTEND;VALUE=DATE:20190512
DTSTAMP:20260424T214755
CREATED:20181206T174938Z
LAST-MODIFIED:20190516T181615Z
UID:34512-1557532800-1557619199@tuhandicap.com
SUMMARY:V Circuito Senior de la Región de Murcia
DESCRIPTION:
URL:https://tuhandicap.com/event/v-circuito-senior-de-la-region-de-murcia-2/
LOCATION:New Sierra Golf\, New Sierra Golf\, Hacienda El Escobar\, Ctra. C-3319 s/n Balsicas\, Murcia
CATEGORIES:Circuito Senior
ATTACH;FMTTYPE=image/jpeg:https://tuhandicap.com/wp-content/uploads/2019/01/cartel.jpg
ORGANIZER;CN="Club de Golf Torre pacheco":MAILTO:cadygolftp@gmail.com
END:VEVENT
BEGIN:VEVENT
DTSTART;VALUE=DATE:20190511
DTEND;VALUE=DATE:20190512
DTSTAMP:20260424T214755
CREATED:20190126T195325Z
LAST-MODIFIED:20190424T191528Z
UID:35201-1557532800-1557619199@tuhandicap.com
SUMMARY:Circuito Aesgolf
DESCRIPTION:4º Torneo puntuable para la Orden de Merito Regional 2019
URL:https://tuhandicap.com/event/circuito-aesgolf-3/
LOCATION:Hacienda del Álamo\, Av. Hacienda del Álamo\, 15\, 30320 Fuente Álamo\, Murcia
CATEGORIES:Circuito Aesgolf
ATTACH;FMTTYPE=image/jpeg:https://tuhandicap.com/wp-content/uploads/2019/01/Circuito-Aesgolf.jpg
END:VEVENT
BEGIN:VEVENT
DTSTART;VALUE=DATE:20190511
DTEND;VALUE=DATE:20190512
DTSTAMP:20260424T214755
CREATED:20190127T112324Z
LAST-MODIFIED:20190522T181036Z
UID:35284-1557532800-1557619199@tuhandicap.com
SUMMARY:XXI Circuito de Golf Grupo Soledad
DESCRIPTION:6ª Prueba puntuable
URL:https://tuhandicap.com/event/xxi-circuito-de-golf-grupo-soledad-4/
LOCATION:Oliva Nova\, Avinguda Oliva Nova\, 61A\, 46780\, Oliva\, Valencia
CATEGORIES:Circuito de Golf Grupo Soledad
END:VEVENT
BEGIN:VEVENT
DTSTART;VALUE=DATE:20190511
DTEND;VALUE=DATE:20190512
DTSTAMP:20260424T214755
CREATED:20190421T102528Z
LAST-MODIFIED:20190516T181243Z
UID:36561-1557532800-1557619199@tuhandicap.com
SUMMARY:Circuito Universal Proshop La Serena Golf 2019
DESCRIPTION:4ª Prueba puntuable del Circuito Universal Golf
URL:https://tuhandicap.com/event/circuito-universal-proshop-la-serena-golf-2019-6/
LOCATION:La Serena Golf\, Av. Príncipe Felipe\, 30\, 30710 Los Alcázares\, Murcia
CATEGORIES:Universal Golf
ATTACH;FMTTYPE=image/jpeg:https://tuhandicap.com/wp-content/uploads/2019/04/59442377_2319402331606163_7776485584482074624_n.jpg
ORGANIZER;CN="Universal Golf":MAILTO:info@universalgolf.es
END:VEVENT
BEGIN:VEVENT
DTSTART;VALUE=DATE:20190511
DTEND;VALUE=DATE:20190512
DTSTAMP:20260424T214755
CREATED:20190428T062202Z
LAST-MODIFIED:20190515T222454Z
UID:36709-1557532800-1557619199@tuhandicap.com
SUMMARY:VI Torneo de Golf Onda Cero Elche
DESCRIPTION:
URL:https://tuhandicap.com/event/vi-torneo-de-golf-onda-cero-elche/
LOCATION:Font del Llop\, Ctra. Alicante-Aspe CV.847 - km 3.5\, 03679 Monforte del Cid
ATTACH;FMTTYPE=image/jpeg:https://tuhandicap.com/wp-content/uploads/2019/04/19.-Onda-Cero-1.jpg
END:VEVENT
BEGIN:VEVENT
DTSTART;VALUE=DATE:20190511
DTEND;VALUE=DATE:20190512
DTSTAMP:20260424T214755
CREATED:20190428T174822Z
LAST-MODIFIED:20190514T181900Z
UID:36744-1557532800-1557619199@tuhandicap.com
SUMMARY:Audi Quattro Cup
DESCRIPTION:
URL:https://tuhandicap.com/event/audi-quattro-cup-3/
LOCATION:Alenda Golf
ATTACH;FMTTYPE=image/jpeg:https://tuhandicap.com/wp-content/uploads/2019/04/57106685_2041301515919020_5853127481904594944_n-1.jpg
END:VEVENT
BEGIN:VEVENT
DTSTART;VALUE=DATE:20190512
DTEND;VALUE=DATE:20190513
DTSTAMP:20260424T214755
CREATED:20190108T195701Z
LAST-MODIFIED:20190517T183546Z
UID:34983-1557619200-1557705599@tuhandicap.com
SUMMARY:Liga Pga Amateur
DESCRIPTION:5ª Prueba puntuable
URL:https://tuhandicap.com/event/liga-pga-amateur-5/
LOCATION:New Sierra Golf\, New Sierra Golf\, Hacienda El Escobar\, Ctra. C-3319 s/n Balsicas\, Murcia
CATEGORIES:Liga PGA Golf Amateur
ATTACH;FMTTYPE=image/jpeg:https://tuhandicap.com/wp-content/uploads/2019/01/cartel-3.jpg
END:VEVENT
BEGIN:VEVENT
DTSTART;VALUE=DATE:20190517
DTEND;VALUE=DATE:20190518
DTSTAMP:20260424T214755
CREATED:20190126T183553Z
LAST-MODIFIED:20190126T183553Z
UID:35154-1558051200-1558137599@tuhandicap.com
SUMMARY:Torneo Audi Quatro Cup
DESCRIPTION:Torneo Social
URL:https://tuhandicap.com/event/torneo-audi-quatro-cup/
LOCATION:Golf Altorreal\, Av. del Golf\, 3\, 30506 Molina de Segura\, Murcia
END:VEVENT
BEGIN:VEVENT
DTSTART;TZID=Europe/Madrid:20190517T080000
DTEND;TZID=Europe/Madrid:20190518T170000
DTSTAMP:20260424T214755
CREATED:20190310T164009Z
LAST-MODIFIED:20190428T062358Z
UID:35771-1558080000-1558198800@tuhandicap.com
SUMMARY:Circuito Corporate 2019
DESCRIPTION:
URL:https://tuhandicap.com/event/circuito-coporate-2019/
LOCATION:Font del Llop\, Ctra. Alicante-Aspe CV.847 - km 3.5\, 03679 Monforte del Cid
ATTACH;FMTTYPE=image/jpeg:https://tuhandicap.com/wp-content/uploads/2019/03/unnamed-5.jpg
END:VEVENT
BEGIN:VEVENT
DTSTART;VALUE=DATE:20190518
DTEND;VALUE=DATE:20190519
DTSTAMP:20260424T214755
CREATED:20190127T112419Z
LAST-MODIFIED:20190607T184057Z
UID:35286-1558137600-1558223999@tuhandicap.com
SUMMARY:XXI Circuito de Golf Grupo Soledad
DESCRIPTION:7ª Prueba puntuable
URL:https://tuhandicap.com/event/xxi-circuito-de-golf-grupo-soledad-5/
LOCATION:Alicante Golf\, Av. Locutor Vicente Hipólito\, 37\, 03540 Alicante
CATEGORIES:Circuito de Golf Grupo Soledad
END:VEVENT
BEGIN:VEVENT
DTSTART;VALUE=DATE:20190518
DTEND;VALUE=DATE:20190519
DTSTAMP:20260424T214755
CREATED:20190206T200500Z
LAST-MODIFIED:20190521T213500Z
UID:35398-1558137600-1558223999@tuhandicap.com
SUMMARY:Gnk Golf Tour 2019
DESCRIPTION:2ª Prueba puntuable
URL:https://tuhandicap.com/event/gnk-golf-tour-2019-2/
LOCATION:Hacienda Riquelme Golf\, Restaurante el Casón\, 33059 Sucina\, Murcia
CATEGORIES:GNK Golf Tour
ATTACH;FMTTYPE=image/jpeg:https://tuhandicap.com/wp-content/uploads/2019/05/GF-GNK-HACIENDA-RIQUELME2.jpg
END:VEVENT
BEGIN:VEVENT
DTSTART;VALUE=DATE:20190518
DTEND;VALUE=DATE:20190519
DTSTAMP:20260424T214755
CREATED:20190319T174327Z
LAST-MODIFIED:20190523T214642Z
UID:35830-1558137600-1558223999@tuhandicap.com
SUMMARY:Prueba Clasificatoria Olagolf Masters
DESCRIPTION:Modalidad de juego: Medal Play
URL:https://tuhandicap.com/event/prueba-clasificatoria-olagolf-masters/
LOCATION:Aguilón Golf\, Urbanización Mundo Aguilón\, s/n\, 04648 Pilar de Jaravía\, Pulpí\, Almería
ATTACH;FMTTYPE=image/jpeg:https://tuhandicap.com/wp-content/uploads/2019/05/83b3100e-40c2-4c3d-b644-96049b0f5b10.jpg
END:VEVENT
BEGIN:VEVENT
DTSTART;VALUE=DATE:20190524
DTEND;VALUE=DATE:20190526
DTSTAMP:20260424T214755
CREATED:20181206T175637Z
LAST-MODIFIED:20190602T162656Z
UID:34524-1558656000-1558828799@tuhandicap.com
SUMMARY:II Trofeo Reina Green
DESCRIPTION:
URL:https://tuhandicap.com/event/torneo-reina-green/
LOCATION:Torre-Pacheco Golf\, Plaza Severiano Ballesteros\, 30700\, Torre-Pacheco\, Murcia
ATTACH;FMTTYPE=image/jpeg:https://tuhandicap.com/wp-content/uploads/2019/05/0001-2019-05-19T173944.626.jpg
END:VEVENT
BEGIN:VEVENT
DTSTART;VALUE=DATE:20190525
DTEND;VALUE=DATE:20190526
DTSTAMP:20260424T214755
CREATED:20190127T112514Z
LAST-MODIFIED:20190529T184318Z
UID:35288-1558742400-1558828799@tuhandicap.com
SUMMARY:XXI Circuito de Golf Grupo Soledad
DESCRIPTION:8ª Prueba puntuable
URL:https://tuhandicap.com/event/xxi-circuito-de-golf-grupo-soledad-6/
LOCATION:Bonalba\, Bonalba Golf Resort\, Carrer del Vespre\, 6 bis\, 03110 Mutxamel\, Alacant
CATEGORIES:Circuito de Golf Grupo Soledad
END:VEVENT
BEGIN:VEVENT
DTSTART;VALUE=DATE:20190525
DTEND;VALUE=DATE:20190526
DTSTAMP:20260424T214755
CREATED:20190203T100627Z
LAST-MODIFIED:20190427T074854Z
UID:35338-1558742400-1558828799@tuhandicap.com
SUMMARY:Trofeo Vistabella Golf
DESCRIPTION:
URL:https://tuhandicap.com/event/trofeo-vistabella-golf/
LOCATION:Vistabella Golf\, Vistabella Golf\, Calle Melocotonero\, 1\, 03310 Orihuela\, Alicante
ATTACH;FMTTYPE=image/jpeg:https://tuhandicap.com/wp-content/uploads/2019/04/56972078_3149723765053533_2209067006508924928_n.jpg
END:VEVENT
BEGIN:VEVENT
DTSTART;VALUE=DATE:20190525
DTEND;VALUE=DATE:20190526
DTSTAMP:20260424T214755
CREATED:20190310T201212Z
LAST-MODIFIED:20190529T184530Z
UID:35787-1558742400-1558828799@tuhandicap.com
SUMMARY:IV Circuito Lorca Golf Course 2019
DESCRIPTION:2ª Prueba puntuable del IV Circuito Lorca Golf Course 2019 \n1ª Prueba puntuable del Circuito Lorca Golf Club
URL:https://tuhandicap.com/event/iv-circuito-lorca-golf-course-2019-2/
LOCATION:Lorca Golf Course\, Lorca Golf Course\, Autovía RM 11\, Salida 17\, 30813 Purias\, Murcia
CATEGORIES:Circuito Lorca Golf Course,Lorca Club de Golf
ATTACH;FMTTYPE=image/jpeg:https://tuhandicap.com/wp-content/uploads/2019/05/58669621_2027339320710265_839440384361758720_n.jpg
ORGANIZER;CN="Lorca Golf Course":MAILTO:infogolf@lorcaresort.com
END:VEVENT
BEGIN:VEVENT
DTSTART;VALUE=DATE:20190525
DTEND;VALUE=DATE:20190526
DTSTAMP:20260424T214755
CREATED:20190331T180642Z
LAST-MODIFIED:20190607T184300Z
UID:36045-1558742400-1558828799@tuhandicap.com
SUMMARY:Prueba Clasificatoria Olagolf Masters
DESCRIPTION:
URL:https://tuhandicap.com/event/prueba-clasificatoria-olagolf-masters-2/
LOCATION:Alenda Golf
ATTACH;FMTTYPE=image/jpeg:https://tuhandicap.com/wp-content/uploads/2019/03/Cartel.OlagolfMasters2019-e1552559122601.jpg
END:VEVENT
BEGIN:VEVENT
DTSTART;VALUE=DATE:20190526
DTEND;VALUE=DATE:20190527
DTSTAMP:20260424T214755
CREATED:20190319T174456Z
LAST-MODIFIED:20190319T174456Z
UID:35832-1558828800-1558915199@tuhandicap.com
SUMMARY:Torneo Match Play "Liga Almeriense"
DESCRIPTION:
URL:https://tuhandicap.com/event/torneo-match-play-liga-almeriense/
LOCATION:Aguilón Golf\, Urbanización Mundo Aguilón\, s/n\, 04648 Pilar de Jaravía\, Pulpí\, Almería
END:VEVENT
BEGIN:VEVENT
DTSTART;VALUE=DATE:20190526
DTEND;VALUE=DATE:20190527
DTSTAMP:20260424T214755
CREATED:20190324T193433Z
LAST-MODIFIED:20190607T182437Z
UID:35938-1558828800-1558915199@tuhandicap.com
SUMMARY:Torneo de Golf de la Solidaridad
DESCRIPTION:A beneficio de la Asociación Prometeo
URL:https://tuhandicap.com/event/torneo-de-golf-de-la-solidaridad/
LOCATION:Lo Romero Golf\, CV-925\, 29\, 03191 Pilar de la Horadada\, Alicante
ATTACH;FMTTYPE=image/jpeg:https://tuhandicap.com/wp-content/uploads/2019/04/WhatsApp-Image-2019-04-01-at-13.24.53.jpeg
END:VEVENT
BEGIN:VEVENT
DTSTART;VALUE=DATE:20190531
DTEND;VALUE=DATE:20190601
DTSTAMP:20260424T214755
CREATED:20190126T183652Z
LAST-MODIFIED:20190508T181145Z
UID:35156-1559260800-1559347199@tuhandicap.com
SUMMARY:10º Aniversario Golf Adaptado
DESCRIPTION:
URL:https://tuhandicap.com/event/10o-aniversario-golf-adaptado/
LOCATION:Golf Altorreal\, Av. del Golf\, 3\, 30506 Molina de Segura\, Murcia
ATTACH;FMTTYPE=image/jpeg:https://tuhandicap.com/wp-content/uploads/2019/01/WhatsApp-Image-2019-05-06-at-13.16.05.jpeg
END:VEVENT
BEGIN:VEVENT
DTSTART;VALUE=DATE:20190531
DTEND;VALUE=DATE:20190603
DTSTAMP:20260424T214755
CREATED:20190602T162100Z
LAST-MODIFIED:20190602T162100Z
UID:37704-1559260800-1559519999@tuhandicap.com
SUMMARY:XXI Torneo Aniversario Alicante Golf
DESCRIPTION:
URL:https://tuhandicap.com/event/xxi-torneo-aniversario-alicante-golf/
LOCATION:Alicante Golf\, Av. Locutor Vicente Hipólito\, 37\, 03540 Alicante
ATTACH;FMTTYPE=image/jpeg:https://tuhandicap.com/wp-content/uploads/2019/05/Torneo-Aniversario-v1.jpg
END:VEVENT
BEGIN:VEVENT
DTSTART;VALUE=DATE:20190601
DTEND;VALUE=DATE:20190602
DTSTAMP:20260424T214755
CREATED:20190127T112652Z
LAST-MODIFIED:20190607T183542Z
UID:35290-1559347200-1559433599@tuhandicap.com
SUMMARY:XXI Circuito de Golf Grupo Soledad
DESCRIPTION:9ª Prueba puntuable
URL:https://tuhandicap.com/event/xxi-circuito-de-golf-grupo-soledad-7/
LOCATION:La Manga Club\, 37 Spike & Sports Bar\, Urb. La Manga Club\, 30389 Cartagena\, Murcia
CATEGORIES:Circuito de Golf Grupo Soledad
END:VEVENT
BEGIN:VEVENT
DTSTART;VALUE=DATE:20190601
DTEND;VALUE=DATE:20190602
DTSTAMP:20260424T214755
CREATED:20190319T174643Z
LAST-MODIFIED:20190607T183133Z
UID:35834-1559347200-1559433599@tuhandicap.com
SUMMARY:III Memorial Juan Antonio Carrasco
DESCRIPTION:2ª Prueba puntuable Circuito 2019
URL:https://tuhandicap.com/event/iii-memorial-juan-antonio-carrasco/
LOCATION:Aguilón Golf\, Urbanización Mundo Aguilón\, s/n\, 04648 Pilar de Jaravía\, Pulpí\, Almería
CATEGORIES:Circuito Aguilón
ATTACH;FMTTYPE=image/jpeg:https://tuhandicap.com/wp-content/uploads/2019/03/IMG-20190521-WA0002.jpg
END:VEVENT
BEGIN:VEVENT
DTSTART;VALUE=DATE:20190601
DTEND;VALUE=DATE:20190602
DTSTAMP:20260424T214755
CREATED:20190427T075705Z
LAST-MODIFIED:20190612T192055Z
UID:36694-1559347200-1559433599@tuhandicap.com
SUMMARY:Campeonato Día Internacional de la Mujer Golfista
DESCRIPTION:
URL:https://tuhandicap.com/event/campeonato-dia-internacional-de-la-mujer-golfista/
ATTACH;FMTTYPE=image/jpeg:https://tuhandicap.com/wp-content/uploads/2019/05/WhatsApp-Image-2019-05-08-at-11.51.51-1.jpg
END:VEVENT
BEGIN:VEVENT
DTSTART;VALUE=DATE:20190601
DTEND;VALUE=DATE:20190602
DTSTAMP:20260424T214755
CREATED:20190516T214024Z
LAST-MODIFIED:20190516T214024Z
UID:37236-1559347200-1559433599@tuhandicap.com
SUMMARY:V Torneo de Golf Antony Joyeros
DESCRIPTION:
URL:https://tuhandicap.com/event/v-torneo-de-golf-antony-joyeros/
LOCATION:Camposol
ATTACH;FMTTYPE=image/jpeg:https://tuhandicap.com/wp-content/uploads/2019/05/9ca749f8-007f-402b-a03f-a224b890cec6.jpg
END:VEVENT
BEGIN:VEVENT
DTSTART;VALUE=DATE:20190605
DTEND;VALUE=DATE:20190607
DTSTAMP:20260424T214755
CREATED:20190427T080043Z
LAST-MODIFIED:20190519T175143Z
UID:36696-1559692800-1559865599@tuhandicap.com
SUMMARY:I Circuito de Damas ‘Duca del Cosma’
DESCRIPTION:Prueba dirigida a las mujeres del golf\, mayores de 18 años\, con la colaboración de la marca de zapatos Duca del Cosma\, que en esta primera edición del evento premia a la campeona y subcampeona del circuito con un par de zapatos de la firma italiana.
URL:https://tuhandicap.com/event/i-circuito-de-damas-duca-del-cosma/
LOCATION:Torre-Pacheco Golf\, Plaza Severiano Ballesteros\, 30700\, Torre-Pacheco\, Murcia
ATTACH;FMTTYPE=image/jpeg:https://tuhandicap.com/wp-content/uploads/2019/05/I-Circuito-damas-DdC-2019.jpg
END:VEVENT
END:VCALENDAR