BEGIN:VCALENDAR
VERSION:2.0
PRODID:-// - ECPv6.15.20//NONSGML v1.0//EN
CALSCALE:GREGORIAN
METHOD:PUBLISH
X-ORIGINAL-URL:https://tuhandicap.com
X-WR-CALDESC:Eventos para 
REFRESH-INTERVAL;VALUE=DURATION:PT1H
X-Robots-Tag:noindex
X-PUBLISHED-TTL:PT1H
BEGIN:VTIMEZONE
TZID:Europe/Madrid
BEGIN:DAYLIGHT
TZOFFSETFROM:+0100
TZOFFSETTO:+0200
TZNAME:CEST
DTSTART:20160327T010000
END:DAYLIGHT
BEGIN:STANDARD
TZOFFSETFROM:+0200
TZOFFSETTO:+0100
TZNAME:CET
DTSTART:20161030T010000
END:STANDARD
BEGIN:DAYLIGHT
TZOFFSETFROM:+0100
TZOFFSETTO:+0200
TZNAME:CEST
DTSTART:20170326T010000
END:DAYLIGHT
BEGIN:STANDARD
TZOFFSETFROM:+0200
TZOFFSETTO:+0100
TZNAME:CET
DTSTART:20171029T010000
END:STANDARD
BEGIN:DAYLIGHT
TZOFFSETFROM:+0100
TZOFFSETTO:+0200
TZNAME:CEST
DTSTART:20180325T010000
END:DAYLIGHT
BEGIN:STANDARD
TZOFFSETFROM:+0200
TZOFFSETTO:+0100
TZNAME:CET
DTSTART:20181028T010000
END:STANDARD
BEGIN:DAYLIGHT
TZOFFSETFROM:+0100
TZOFFSETTO:+0200
TZNAME:CEST
DTSTART:20190331T010000
END:DAYLIGHT
BEGIN:STANDARD
TZOFFSETFROM:+0200
TZOFFSETTO:+0100
TZNAME:CET
DTSTART:20191027T010000
END:STANDARD
END:VTIMEZONE
BEGIN:VEVENT
DTSTART;VALUE=DATE:20180803
DTEND;VALUE=DATE:20180804
DTSTAMP:20260420T144053
CREATED:20180506T170142Z
LAST-MODIFIED:20180506T170142Z
UID:28562-1533254400-1533340799@tuhandicap.com
SUMMARY:IX Summer Cup
DESCRIPTION:
URL:https://tuhandicap.com/event/ix-summer-cup/
LOCATION:Font del Llop\, Ctra. Alicante-Aspe CV.847 - km 3.5\, 03679 Monforte del Cid
END:VEVENT
BEGIN:VEVENT
DTSTART;VALUE=DATE:20180728
DTEND;VALUE=DATE:20180729
DTSTAMP:20260420T144053
CREATED:20180909T215605Z
LAST-MODIFIED:20180909T215702Z
UID:32601-1532736000-1532822399@tuhandicap.com
SUMMARY:VII Torneo OpenGolf.es
DESCRIPTION:
URL:https://tuhandicap.com/event/vii-torneo-opengolf-es/
LOCATION:Font del Llop\, Ctra. Alicante-Aspe CV.847 - km 3.5\, 03679 Monforte del Cid
ATTACH;FMTTYPE=image/jpeg:https://tuhandicap.com/wp-content/uploads/2018/09/37412568_1815261498497298_5520965560319344640_n.jpg
END:VEVENT
BEGIN:VEVENT
DTSTART;VALUE=DATE:20180713
DTEND;VALUE=DATE:20180715
DTSTAMP:20260420T144053
CREATED:20180506T170000Z
LAST-MODIFIED:20180902T174823Z
UID:28558-1531440000-1531612799@tuhandicap.com
SUMMARY:VIII Torneo Aniversario Font Del Llop
DESCRIPTION:
URL:https://tuhandicap.com/event/viii-torneo-aniversario-font-del-llop/
LOCATION:Font del Llop\, Ctra. Alicante-Aspe CV.847 - km 3.5\, 03679 Monforte del Cid
ATTACH;FMTTYPE=image/jpeg:https://tuhandicap.com/wp-content/uploads/2018/05/VIII-Torneo-Aniversario-FDL.jpg
END:VEVENT
BEGIN:VEVENT
DTSTART;VALUE=DATE:20180630
DTEND;VALUE=DATE:20180701
DTSTAMP:20260420T144053
CREATED:20180506T165904Z
LAST-MODIFIED:20180902T103520Z
UID:28555-1530316800-1530403199@tuhandicap.com
SUMMARY:Circuito Heineken de Levante 2018
DESCRIPTION:
URL:https://tuhandicap.com/event/circuito-heineken-2/
LOCATION:Font del Llop\, Ctra. Alicante-Aspe CV.847 - km 3.5\, 03679 Monforte del Cid
CATEGORIES:Circuito Heineken de Levante
ATTACH;FMTTYPE=image/jpeg:https://tuhandicap.com/wp-content/uploads/2018/09/35758825_1772623016094480_4905736831179423744_n.jpg
END:VEVENT
BEGIN:VEVENT
DTSTART;VALUE=DATE:20180628
DTEND;VALUE=DATE:20180629
DTSTAMP:20260420T144053
CREATED:20180506T170056Z
LAST-MODIFIED:20180506T170056Z
UID:28560-1530144000-1530230399@tuhandicap.com
SUMMARY:VII Open Golf Font Del Llop
DESCRIPTION:
URL:https://tuhandicap.com/event/vii-open-golf-font-del-llop/
LOCATION:Font del Llop\, Ctra. Alicante-Aspe CV.847 - km 3.5\, 03679 Monforte del Cid
END:VEVENT
BEGIN:VEVENT
DTSTART;VALUE=DATE:20180616
DTEND;VALUE=DATE:20180617
DTSTAMP:20260420T144053
CREATED:20180506T165617Z
LAST-MODIFIED:20180902T091032Z
UID:28551-1529107200-1529193599@tuhandicap.com
SUMMARY:Circuito Match Quality Golf
DESCRIPTION:
URL:https://tuhandicap.com/event/circuito-match-quality-golf-3/
LOCATION:Font del Llop\, Ctra. Alicante-Aspe CV.847 - km 3.5\, 03679 Monforte del Cid
CATEGORIES:Circuito Match Quality Golf
ATTACH;FMTTYPE=image/jpeg:https://tuhandicap.com/wp-content/uploads/2018/09/34368458_1751552524868196_2999048170987585536_n.jpg
END:VEVENT
BEGIN:VEVENT
DTSTART;VALUE=DATE:20180526
DTEND;VALUE=DATE:20180527
DTSTAMP:20260420T144053
CREATED:20180506T165322Z
LAST-MODIFIED:20180902T080313Z
UID:28549-1527292800-1527379199@tuhandicap.com
SUMMARY:Torneo Benéfico Manos Unidas
DESCRIPTION:
URL:https://tuhandicap.com/event/torneo-benefico-manos-unidas/
LOCATION:Font del Llop\, Ctra. Alicante-Aspe CV.847 - km 3.5\, 03679 Monforte del Cid
ATTACH;FMTTYPE=image/jpeg:https://tuhandicap.com/wp-content/uploads/2018/05/26-MAYO-1.jpg
END:VEVENT
BEGIN:VEVENT
DTSTART;VALUE=DATE:20180218
DTEND;VALUE=DATE:20180219
DTSTAMP:20260420T144053
CREATED:20180109T225733Z
LAST-MODIFIED:20180221T001257Z
UID:25434-1518912000-1518998399@tuhandicap.com
SUMMARY:IX Ballantine´s Golf Challenge 2018
DESCRIPTION:6ª Prueba del circuito: Font del Llop \n 
URL:https://tuhandicap.com/event/ix-ballantines-golf-challenge-2018-6/
LOCATION:Font del Llop\, Ctra. Alicante-Aspe CV.847 - km 3.5\, 03679 Monforte del Cid
CATEGORIES:Circuito Ballantine´s
ATTACH;FMTTYPE=image/jpeg:https://tuhandicap.com/wp-content/uploads/2018/02/27658030_1639628189393964_3874290943695906844_n-2.jpg
END:VEVENT
BEGIN:VEVENT
DTSTART;VALUE=DATE:20180127
DTEND;VALUE=DATE:20180128
DTSTAMP:20260420T144053
CREATED:20180506T162807Z
LAST-MODIFIED:20180506T162807Z
UID:28542-1517011200-1517097599@tuhandicap.com
SUMMARY:Torneo Holiday Golf
DESCRIPTION:
URL:https://tuhandicap.com/event/torneo-holiday-golf/
LOCATION:Font del Llop\, Ctra. Alicante-Aspe CV.847 - km 3.5\, 03679 Monforte del Cid
END:VEVENT
BEGIN:VEVENT
DTSTART;VALUE=DATE:20180107
DTEND;VALUE=DATE:20180108
DTSTAMP:20260420T144053
CREATED:20180506T180604Z
LAST-MODIFIED:20180506T180630Z
UID:28608-1515283200-1515369599@tuhandicap.com
SUMMARY:VIII Torneo Reyes Magos
DESCRIPTION:
URL:https://tuhandicap.com/event/viii-torneo-reyes-magos/
LOCATION:Font del Llop\, Ctra. Alicante-Aspe CV.847 - km 3.5\, 03679 Monforte del Cid
END:VEVENT
BEGIN:VEVENT
DTSTART;VALUE=DATE:20170520
DTEND;VALUE=DATE:20170521
DTSTAMP:20260420T144053
CREATED:20171015T101537Z
LAST-MODIFIED:20171015T101537Z
UID:22888-1495238400-1495324799@tuhandicap.com
SUMMARY:Circuito Corporate Golf
DESCRIPTION:
URL:https://tuhandicap.com/event/circuito-corporate-golf/
LOCATION:Font del Llop\, Ctra. Alicante-Aspe CV.847 - km 3.5\, 03679 Monforte del Cid
END:VEVENT
END:VCALENDAR