BEGIN:VCALENDAR
VERSION:2.0
PRODID:-// - ECPv6.15.20//NONSGML v1.0//EN
CALSCALE:GREGORIAN
METHOD:PUBLISH
X-ORIGINAL-URL:https://tuhandicap.com
X-WR-CALDESC:Eventos para 
REFRESH-INTERVAL;VALUE=DURATION:PT1H
X-Robots-Tag:noindex
X-PUBLISHED-TTL:PT1H
BEGIN:VTIMEZONE
TZID:Europe/Madrid
BEGIN:DAYLIGHT
TZOFFSETFROM:+0100
TZOFFSETTO:+0200
TZNAME:CEST
DTSTART:20220327T010000
END:DAYLIGHT
BEGIN:STANDARD
TZOFFSETFROM:+0200
TZOFFSETTO:+0100
TZNAME:CET
DTSTART:20221030T010000
END:STANDARD
BEGIN:DAYLIGHT
TZOFFSETFROM:+0100
TZOFFSETTO:+0200
TZNAME:CEST
DTSTART:20230326T010000
END:DAYLIGHT
BEGIN:STANDARD
TZOFFSETFROM:+0200
TZOFFSETTO:+0100
TZNAME:CET
DTSTART:20231029T010000
END:STANDARD
BEGIN:DAYLIGHT
TZOFFSETFROM:+0100
TZOFFSETTO:+0200
TZNAME:CEST
DTSTART:20240331T010000
END:DAYLIGHT
BEGIN:STANDARD
TZOFFSETFROM:+0200
TZOFFSETTO:+0100
TZNAME:CET
DTSTART:20241027T010000
END:STANDARD
END:VTIMEZONE
BEGIN:VEVENT
DTSTART;VALUE=DATE:20231104
DTEND;VALUE=DATE:20231105
DTSTAMP:20260421T184238
CREATED:20230326T221027Z
LAST-MODIFIED:20230326T221027Z
UID:55874-1699056000-1699142399@tuhandicap.com
SUMMARY:Torneo Las Colinas
DESCRIPTION:
URL:https://tuhandicap.com/event/torneo-las-colinas/
LOCATION:Golf Altorreal\, Av. del Golf\, 3\, 30506 Molina de Segura\, Murcia
END:VEVENT
BEGIN:VEVENT
DTSTART;VALUE=DATE:20231104
DTEND;VALUE=DATE:20231105
DTSTAMP:20260421T184238
CREATED:20230423T212806Z
LAST-MODIFIED:20230423T212806Z
UID:56090-1699056000-1699142399@tuhandicap.com
SUMMARY:Race to Las Colinas Trophy
DESCRIPTION:
URL:https://tuhandicap.com/event/race-to-las-colinas-trophy-6/
LOCATION:Golf Altorreal\, Av. del Golf\, 3\, 30506 Molina de Segura\, Murcia
ATTACH;FMTTYPE=image/jpeg:https://tuhandicap.com/wp-content/uploads/2023/04/LCT_2023.jpg
ORGANIZER;CN="Las Colinas Golf & Country Club":MAILTO:reservations@lascolinasgolf.es
END:VEVENT
BEGIN:VEVENT
DTSTART;VALUE=DATE:20231104
DTEND;VALUE=DATE:20231105
DTSTAMP:20260421T184238
CREATED:20230920T101808Z
LAST-MODIFIED:20230920T101808Z
UID:57915-1699056000-1699142399@tuhandicap.com
SUMMARY:Torneo Onda Cero
DESCRIPTION:
URL:https://tuhandicap.com/event/torneo-onda-cero-4/
LOCATION:Hacienda Riquelme Golf\, Restaurante el Casón\, 33059 Sucina\, Murcia
ATTACH;FMTTYPE=image/jpeg:https://tuhandicap.com/wp-content/uploads/2023/09/prod_uploads_file_2023_09_1695107164079-CARTEL-TORNEO-ONDA-CERO.jpg
END:VEVENT
BEGIN:VEVENT
DTSTART;VALUE=DATE:20231104
DTEND;VALUE=DATE:20231105
DTSTAMP:20260421T184238
CREATED:20230920T102039Z
LAST-MODIFIED:20230920T102039Z
UID:57918-1699056000-1699142399@tuhandicap.com
SUMMARY:Torneo Cadena Ser Alicante
DESCRIPTION:
URL:https://tuhandicap.com/event/torneo-cadena-ser-alicante/
LOCATION:Alicante Golf\, Av. Locutor Vicente Hipólito\, 37\, 03540 Alicante
END:VEVENT
BEGIN:VEVENT
DTSTART;VALUE=DATE:20231104
DTEND;VALUE=DATE:20231105
DTSTAMP:20260421T184238
CREATED:20231001T202749Z
LAST-MODIFIED:20231002T203926Z
UID:57962-1699056000-1699142399@tuhandicap.com
SUMMARY:III Liga Femenina Región de Murcia
DESCRIPTION:
URL:https://tuhandicap.com/event/iii-liga-femenina-region-de-murcia/
LOCATION:Alhama Signature\, Condado de Alhama Golf Resort\, Autovía Totana-Mazarrón RM23\, s/n\, 30840 Alhama de Murcia\, Murcia
ATTACH;FMTTYPE=image/jpeg:https://tuhandicap.com/wp-content/uploads/2023/10/IMG-20231001-WA0002.jpg
END:VEVENT
END:VCALENDAR