BEGIN:VCALENDAR
VERSION:2.0
PRODID:-// - ECPv6.15.20//NONSGML v1.0//EN
CALSCALE:GREGORIAN
METHOD:PUBLISH
X-ORIGINAL-URL:https://tuhandicap.com
X-WR-CALDESC:Eventos para 
REFRESH-INTERVAL;VALUE=DURATION:PT1H
X-Robots-Tag:noindex
X-PUBLISHED-TTL:PT1H
BEGIN:VTIMEZONE
TZID:Europe/Madrid
BEGIN:DAYLIGHT
TZOFFSETFROM:+0100
TZOFFSETTO:+0200
TZNAME:CEST
DTSTART:20180325T010000
END:DAYLIGHT
BEGIN:STANDARD
TZOFFSETFROM:+0200
TZOFFSETTO:+0100
TZNAME:CET
DTSTART:20181028T010000
END:STANDARD
BEGIN:DAYLIGHT
TZOFFSETFROM:+0100
TZOFFSETTO:+0200
TZNAME:CEST
DTSTART:20190331T010000
END:DAYLIGHT
BEGIN:STANDARD
TZOFFSETFROM:+0200
TZOFFSETTO:+0100
TZNAME:CET
DTSTART:20191027T010000
END:STANDARD
BEGIN:DAYLIGHT
TZOFFSETFROM:+0100
TZOFFSETTO:+0200
TZNAME:CEST
DTSTART:20200329T010000
END:DAYLIGHT
BEGIN:STANDARD
TZOFFSETFROM:+0200
TZOFFSETTO:+0100
TZNAME:CET
DTSTART:20201025T010000
END:STANDARD
END:VTIMEZONE
BEGIN:VEVENT
DTSTART;TZID=Europe/Madrid:20190517T080000
DTEND;TZID=Europe/Madrid:20190518T170000
DTSTAMP:20260422T134755
CREATED:20190310T164009Z
LAST-MODIFIED:20190428T062358Z
UID:35771-1558080000-1558198800@tuhandicap.com
SUMMARY:Circuito Corporate 2019
DESCRIPTION:
URL:https://tuhandicap.com/event/circuito-coporate-2019/
LOCATION:Font del Llop\, Ctra. Alicante-Aspe CV.847 - km 3.5\, 03679 Monforte del Cid
ATTACH;FMTTYPE=image/jpeg:https://tuhandicap.com/wp-content/uploads/2019/03/unnamed-5.jpg
END:VEVENT
BEGIN:VEVENT
DTSTART;VALUE=DATE:20190518
DTEND;VALUE=DATE:20190519
DTSTAMP:20260422T134755
CREATED:20190127T112419Z
LAST-MODIFIED:20190607T184057Z
UID:35286-1558137600-1558223999@tuhandicap.com
SUMMARY:XXI Circuito de Golf Grupo Soledad
DESCRIPTION:7ª Prueba puntuable
URL:https://tuhandicap.com/event/xxi-circuito-de-golf-grupo-soledad-5/
LOCATION:Alicante Golf\, Av. Locutor Vicente Hipólito\, 37\, 03540 Alicante
CATEGORIES:Circuito de Golf Grupo Soledad
END:VEVENT
BEGIN:VEVENT
DTSTART;VALUE=DATE:20190518
DTEND;VALUE=DATE:20190519
DTSTAMP:20260422T134755
CREATED:20190206T200500Z
LAST-MODIFIED:20190521T213500Z
UID:35398-1558137600-1558223999@tuhandicap.com
SUMMARY:Gnk Golf Tour 2019
DESCRIPTION:2ª Prueba puntuable
URL:https://tuhandicap.com/event/gnk-golf-tour-2019-2/
LOCATION:Hacienda Riquelme Golf\, Restaurante el Casón\, 33059 Sucina\, Murcia
CATEGORIES:GNK Golf Tour
ATTACH;FMTTYPE=image/jpeg:https://tuhandicap.com/wp-content/uploads/2019/05/GF-GNK-HACIENDA-RIQUELME2.jpg
END:VEVENT
BEGIN:VEVENT
DTSTART;VALUE=DATE:20190518
DTEND;VALUE=DATE:20190519
DTSTAMP:20260422T134755
CREATED:20190319T174327Z
LAST-MODIFIED:20190523T214642Z
UID:35830-1558137600-1558223999@tuhandicap.com
SUMMARY:Prueba Clasificatoria Olagolf Masters
DESCRIPTION:Modalidad de juego: Medal Play
URL:https://tuhandicap.com/event/prueba-clasificatoria-olagolf-masters/
LOCATION:Aguilón Golf\, Urbanización Mundo Aguilón\, s/n\, 04648 Pilar de Jaravía\, Pulpí\, Almería
ATTACH;FMTTYPE=image/jpeg:https://tuhandicap.com/wp-content/uploads/2019/05/83b3100e-40c2-4c3d-b644-96049b0f5b10.jpg
END:VEVENT
END:VCALENDAR